BEGIN:VCALENDAR
VERSION:2.0
PRODID:-//wp-events-plugin.com//6.5.2//EN
TZID:America/New_York
X-WR-TIMEZONE:America/New_York
BEGIN:VEVENT
UID:104@tapteventservices.com
DTSTART;VALUE=DATE:20240914
DTEND;VALUE=DATE:20240915
DTSTAMP:20240902T022356Z
URL:https://tapteventservices.com/events/phillies-54/
SUMMARY:Phillies
DESCRIPTION:
CATEGORIES:Moderate Pricing
LOCATION:Citizen Bank Park\, 1 Citizens Bank Way\, Philadelphia\, Pennsylva
 nia\, 19148\, United Kingdom
X-APPLE-STRUCTURED-LOCATION;VALUE=URI;X-ADDRESS=1 Citizens Bank Way\, Phila
 delphia\, Pennsylvania\, 19148\, United Kingdom;X-APPLE-RADIUS=100;X-TITLE
 =Citizen Bank Park:geo:0,0
END:VEVENT
END:VCALENDAR