BEGIN:VCALENDAR
VERSION:2.0
PRODID:-//wp-events-plugin.com//6.5.2//EN
TZID:America/New_York
X-WR-TIMEZONE:America/New_York
BEGIN:VEVENT
UID:32@tapteventservices.com
DTSTART;VALUE=DATE:20240609
DTEND;VALUE=DATE:20240610
DTSTAMP:20240506T234016Z
URL:https://tapteventservices.com/events/semi-final/
SUMMARY:Semi Final
DESCRIPTION:Price: $7\,500.00
CATEGORIES:Regular Pricing
LOCATION:MetLife Stadium\, 1 MetLife Stadium Dr\, East Rutherford\, New Jer
 sey\, 07073\, United Kingdom
X-APPLE-STRUCTURED-LOCATION;VALUE=URI;X-ADDRESS=1 MetLife Stadium Dr\, East
  Rutherford\, New Jersey\, 07073\, United Kingdom;X-APPLE-RADIUS=100;X-TIT
 LE=MetLife Stadium:geo:0,0
END:VEVENT
END:VCALENDAR